BEGIN:VCALENDAR
VERSION:2.0
PRODID:-//Petersville Ruritan Club - ECPv6.11.2//NONSGML v1.0//EN
CALSCALE:GREGORIAN
METHOD:PUBLISH
X-WR-CALNAME:Petersville Ruritan Club
X-ORIGINAL-URL:https://petersvilleruritan.org
X-WR-CALDESC:Events for Petersville Ruritan Club
REFRESH-INTERVAL;VALUE=DURATION:PT1H
X-Robots-Tag:noindex
X-PUBLISHED-TTL:PT1H
BEGIN:VTIMEZONE
TZID:America/New_York
BEGIN:DAYLIGHT
TZOFFSETFROM:-0500
TZOFFSETTO:-0400
TZNAME:EDT
DTSTART:20240310T070000
END:DAYLIGHT
BEGIN:STANDARD
TZOFFSETFROM:-0400
TZOFFSETTO:-0500
TZNAME:EST
DTSTART:20241103T060000
END:STANDARD
BEGIN:DAYLIGHT
TZOFFSETFROM:-0500
TZOFFSETTO:-0400
TZNAME:EDT
DTSTART:20250309T070000
END:DAYLIGHT
BEGIN:STANDARD
TZOFFSETFROM:-0400
TZOFFSETTO:-0500
TZNAME:EST
DTSTART:20251102T060000
END:STANDARD
END:VTIMEZONE
BEGIN:VEVENT
DTSTART;VALUE=DATE:20241202
DTEND;VALUE=DATE:20241203
DTSTAMP:20260425T094624
CREATED:20230506T042606Z
LAST-MODIFIED:20240201T181137Z
UID:2968-1733097600-1733183999@petersvilleruritan.org
SUMMARY:December Director's Meeting
DESCRIPTION:
URL:https://petersvilleruritan.org/event/december-directors-meeting/
LOCATION:Petersville Ruritan\, 3816 Petersville Rd.\, Knoxville\, MD\, 21758\, United States
CATEGORIES:Club Event
ATTACH;FMTTYPE=image/png:https://petersvilleruritan.org/wp-content/uploads/2023/05/pr-leadership.png
END:VEVENT
BEGIN:VEVENT
DTSTART;TZID=America/New_York:20250802T180000
DTEND;TZID=America/New_York:20250802T200000
DTSTAMP:20260425T094624
CREATED:20250717T161324Z
LAST-MODIFIED:20250717T161324Z
UID:3115-1754157600-1754164800@petersvilleruritan.org
SUMMARY:Annual Picnic and Scholarship Awards
DESCRIPTION:Potluck Dinner and Award presentation to High Scholarship Recipient. Bring a dish.
URL:https://petersvilleruritan.org/event/annual-picnic-and-scholarship-awards/
LOCATION:Petersville Ruritan\, 3816 Petersville Rd.\, Knoxville\, MD\, 21758\, United States
END:VEVENT
BEGIN:VEVENT
DTSTART;TZID=America/New_York:20250908T180000
DTEND;TZID=America/New_York:20250908T193000
DTSTAMP:20260425T094624
CREATED:20250717T161959Z
LAST-MODIFIED:20250717T161959Z
UID:3117-1757354400-1757359800@petersvilleruritan.org
SUMMARY:Monthly Meeting
DESCRIPTION:Find out more about Ruritan Life\nJoin us for dinner\, fellowship and business meeting
URL:https://petersvilleruritan.org/event/monthly-meeting-2/
LOCATION:Petersville Ruritan\, 3816 Petersville Rd.\, Knoxville\, MD\, 21758\, United States
END:VEVENT
BEGIN:VEVENT
DTSTART;TZID=America/New_York:20250919T160000
DTEND;TZID=America/New_York:20250919T193000
DTSTAMP:20260425T094624
CREATED:20250717T155216Z
LAST-MODIFIED:20250717T155704Z
UID:3104-1758297600-1758310200@petersvilleruritan.org
SUMMARY:September 19th Auction
DESCRIPTION:Auctions start at 4:00pm. Concessions by the Petersville Ruritan Club. \nAuctioneer Andrew Jahn – www.andrewjahnauctions.com
URL:https://petersvilleruritan.org/event/3104/
LOCATION:Petersville Ruritan\, 3816 Petersville Rd.\, Knoxville\, MD\, 21758\, United States
END:VEVENT
BEGIN:VEVENT
DTSTART;TZID=America/New_York:20251011T110000
DTEND;TZID=America/New_York:20251011T160000
DTSTAMP:20260425T094624
CREATED:20250717T163125Z
LAST-MODIFIED:20250717T163247Z
UID:3123-1760180400-1760198400@petersvilleruritan.org
SUMMARY:National Jousting Tournament
DESCRIPTION:Come witness firsthand Maryland State’s Official Sport \nConcessions by the Petersville Ruritan Club \nRaindate October 18 \n 
URL:https://petersvilleruritan.org/event/national-jousting-tournament-2/
LOCATION:Petersville Ruritan\, 3816 Petersville Rd.\, Knoxville\, MD\, 21758\, United States
END:VEVENT
BEGIN:VEVENT
DTSTART;TZID=America/New_York:20251013T180000
DTEND;TZID=America/New_York:20251013T190000
DTSTAMP:20260425T094624
CREATED:20250717T162522Z
LAST-MODIFIED:20250717T162522Z
UID:3121-1760378400-1760382000@petersvilleruritan.org
SUMMARY:Monthly Meeting
DESCRIPTION:Find out more about Ruritan Life Join us for dinner\, fellowship and business meeting
URL:https://petersvilleruritan.org/event/monthly-meeting-3/
LOCATION:Petersville Ruritan\, 3816 Petersville Rd.\, Knoxville\, MD\, 21758\, United States
END:VEVENT
BEGIN:VEVENT
DTSTART;TZID=America/New_York:20251017T160000
DTEND;TZID=America/New_York:20251017T193000
DTSTAMP:20260425T094624
CREATED:20250717T160200Z
LAST-MODIFIED:20250717T160200Z
UID:3113-1760716800-1760729400@petersvilleruritan.org
SUMMARY:October 17 Auction
DESCRIPTION:Auctions start at 4:00pm. Concessions by the Petersville Ruritan Club. \nAuctioneer Andrew Jahn – www.andrewjahnauctions.com
URL:https://petersvilleruritan.org/event/october-17-auction/
LOCATION:Petersville Ruritan\, 3816 Petersville Rd.\, Knoxville\, MD\, 21758\, United States
END:VEVENT
BEGIN:VEVENT
DTSTART;TZID=America/New_York:20251110T180000
DTEND;TZID=America/New_York:20251110T193000
DTSTAMP:20260425T094624
CREATED:20250717T164435Z
LAST-MODIFIED:20250717T164435Z
UID:3135-1762797600-1762803000@petersvilleruritan.org
SUMMARY:Monthly Meeting
DESCRIPTION:Find out more about Ruritan Life Join us for dinner\, fellowship and business meeting
URL:https://petersvilleruritan.org/event/monthly-meeting-4/
LOCATION:Petersville Ruritan\, 3816 Petersville Rd.\, Knoxville\, MD\, 21758\, United States
END:VEVENT
BEGIN:VEVENT
DTSTART;TZID=America/New_York:20251120T140000
DTEND;TZID=America/New_York:20251120T170000
DTSTAMP:20260425T094624
CREATED:20250717T163731Z
LAST-MODIFIED:20250717T163930Z
UID:3129-1763647200-1763658000@petersvilleruritan.org
SUMMARY:Pork Chop and Sausage Sale
DESCRIPTION:Pre-orders only\, Order Form and deadline will be forth coming. Pick up from 2-5pm.
URL:https://petersvilleruritan.org/event/pork-chop-and-sausage-sale/
LOCATION:Petersville Ruritan\, 3816 Petersville Rd.\, Knoxville\, MD\, 21758\, United States
END:VEVENT
BEGIN:VEVENT
DTSTART;TZID=America/New_York:20251122T063000
DTEND;TZID=America/New_York:20251122T100000
DTSTAMP:20260425T094624
CREATED:20250717T165223Z
LAST-MODIFIED:20250717T165223Z
UID:3137-1763793000-1763805600@petersvilleruritan.org
SUMMARY:Country Style Breakfast
DESCRIPTION:Buffet Style Breakfast \nSausage\, Pancakes\, Scrambled Eggs\, Sausage Gravy\, Biscuits\, Puddin\, Coffee\, Tea\, Orange Juice
URL:https://petersvilleruritan.org/event/country-style-breakfast/
LOCATION:Petersville Ruritan\, 3816 Petersville Rd.\, Knoxville\, MD\, 21758\, United States
END:VEVENT
BEGIN:VEVENT
DTSTART;TZID=America/New_York:20251213T180000
DTEND;TZID=America/New_York:20251213T193000
DTSTAMP:20260425T094624
CREATED:20250717T165900Z
LAST-MODIFIED:20250717T165900Z
UID:3140-1765648800-1765654200@petersvilleruritan.org
SUMMARY:Christmas Party
DESCRIPTION:Annual Christmas\, Fellowship\, Food and Joy! \n  \n 
URL:https://petersvilleruritan.org/event/christmas-party-2/
LOCATION:Petersville Ruritan\, 3816 Petersville Rd.\, Knoxville\, MD\, 21758\, United States
END:VEVENT
END:VCALENDAR