BEGIN:VCALENDAR
VERSION:2.0
PRODID:-//Petersville Ruritan Club - ECPv6.11.2//NONSGML v1.0//EN
CALSCALE:GREGORIAN
METHOD:PUBLISH
X-WR-CALNAME:Petersville Ruritan Club
X-ORIGINAL-URL:https://petersvilleruritan.org
X-WR-CALDESC:Events for Petersville Ruritan Club
REFRESH-INTERVAL;VALUE=DURATION:PT1H
X-Robots-Tag:noindex
X-PUBLISHED-TTL:PT1H
BEGIN:VTIMEZONE
TZID:America/New_York
BEGIN:DAYLIGHT
TZOFFSETFROM:-0500
TZOFFSETTO:-0400
TZNAME:EDT
DTSTART:20230312T070000
END:DAYLIGHT
BEGIN:STANDARD
TZOFFSETFROM:-0400
TZOFFSETTO:-0500
TZNAME:EST
DTSTART:20231105T060000
END:STANDARD
BEGIN:DAYLIGHT
TZOFFSETFROM:-0500
TZOFFSETTO:-0400
TZNAME:EDT
DTSTART:20240310T070000
END:DAYLIGHT
BEGIN:STANDARD
TZOFFSETFROM:-0400
TZOFFSETTO:-0500
TZNAME:EST
DTSTART:20241103T060000
END:STANDARD
END:VTIMEZONE
BEGIN:VEVENT
DTSTART;TZID=America/New_York:20240217T063000
DTEND;TZID=America/New_York:20240217T100000
DTSTAMP:20260425T100350
CREATED:20240104T164358Z
LAST-MODIFIED:20240104T164358Z
UID:3048-1708151400-1708164000@petersvilleruritan.org
SUMMARY:Petersville Ruritan Country Breakfast
DESCRIPTION:Buffet Style Meal \n$10 adults\n$5 children\nUnder 5 free
URL:https://petersvilleruritan.org/event/petersville-ruritan-country-breakfast/
LOCATION:Petersville Ruritan\, 3816 Petersville Rd.\, Knoxville\, MD\, 21758\, United States
CATEGORIES:Club Event
ATTACH;FMTTYPE=image/png:https://petersvilleruritan.org/wp-content/uploads/2024/01/breakfast-image.png
END:VEVENT
BEGIN:VEVENT
DTSTART;VALUE=DATE:20240104
DTEND;VALUE=DATE:20240205
DTSTAMP:20260425T100350
CREATED:20240104T165625Z
LAST-MODIFIED:20240104T165628Z
UID:3051-1704326400-1707091199@petersvilleruritan.org
SUMMARY:Sausage and Pork Chop Sale
DESCRIPTION:Advance orders are due by\nSunday\, February 4\, 2024 \nAll orders must be picked up at the Ruritan (The Farmers Woods) on Thursday\, February 15\, 2024 2-5 pm.\n			\n				Order Form
URL:https://petersvilleruritan.org/event/sausage-and-pork-chop-sale/
LOCATION:MD
CATEGORIES:Special Event
ATTACH;FMTTYPE=image/png:https://petersvilleruritan.org/wp-content/uploads/2024/01/pork-sale-image.png
END:VEVENT
BEGIN:VEVENT
DTSTART;VALUE=DATE:20231209
DTEND;VALUE=DATE:20231210
DTSTAMP:20260425T100351
CREATED:20230506T042648Z
LAST-MODIFIED:20230506T042648Z
UID:2970-1702080000-1702166399@petersvilleruritan.org
SUMMARY:Christmas Party
DESCRIPTION:
URL:https://petersvilleruritan.org/event/christmas-party/
LOCATION:Petersville Ruritan\, 3816 Petersville Rd.\, Knoxville\, MD\, 21758\, United States
CATEGORIES:Club Event,Special Event
ATTACH;FMTTYPE=image/jpeg:https://petersvilleruritan.org/wp-content/uploads/2022/11/20220711_175247-scaled.jpg
END:VEVENT
BEGIN:VEVENT
DTSTART;VALUE=DATE:20231118
DTEND;VALUE=DATE:20231119
DTSTAMP:20260425T100351
CREATED:20230506T042528Z
LAST-MODIFIED:20230506T042528Z
UID:2966-1700265600-1700351999@petersvilleruritan.org
SUMMARY:November Breakfast
DESCRIPTION:
URL:https://petersvilleruritan.org/event/november-breakfast/
LOCATION:Petersville Ruritan\, 3816 Petersville Rd.\, Knoxville\, MD\, 21758\, United States
CATEGORIES:Club Event,Special Event
ATTACH;FMTTYPE=image/jpeg:https://petersvilleruritan.org/wp-content/uploads/2022/11/20220711_175417-scaled.jpg
END:VEVENT
BEGIN:VEVENT
DTSTART;TZID=America/New_York:20231116T080000
DTEND;TZID=America/New_York:20231116T170000
DTSTAMP:20260425T100351
CREATED:20230506T042448Z
LAST-MODIFIED:20230506T042448Z
UID:2964-1700121600-1700154000@petersvilleruritan.org
SUMMARY:Pork Chop & Sausage Sale
DESCRIPTION:
URL:https://petersvilleruritan.org/event/pork-chop-sausage-sale/
LOCATION:Petersville Ruritan\, 3816 Petersville Rd.\, Knoxville\, MD\, 21758\, United States
CATEGORIES:Club Event,Special Event
ATTACH;FMTTYPE=image/jpeg:https://petersvilleruritan.org/wp-content/uploads/2022/11/20220217_132508-scaled.jpg
END:VEVENT
BEGIN:VEVENT
DTSTART;VALUE=DATE:20231113
DTEND;VALUE=DATE:20231114
DTSTAMP:20260425T100351
CREATED:20230506T042404Z
LAST-MODIFIED:20230506T042404Z
UID:2962-1699833600-1699919999@petersvilleruritan.org
SUMMARY:November Monthly Meeting
DESCRIPTION:
URL:https://petersvilleruritan.org/event/november-monthly-meeting/
LOCATION:Petersville Ruritan\, 3816 Petersville Rd.\, Knoxville\, MD\, 21758\, United States
CATEGORIES:Club Event
ATTACH;FMTTYPE=image/jpeg:https://petersvilleruritan.org/wp-content/uploads/2022/11/20220711_175247-scaled.jpg
END:VEVENT
BEGIN:VEVENT
DTSTART;TZID=America/New_York:20231110T160000
DTEND;TZID=America/New_York:20231110T180000
DTSTAMP:20260425T100351
CREATED:20230506T035037Z
LAST-MODIFIED:20230506T035037Z
UID:2923-1699632000-1699639200@petersvilleruritan.org
SUMMARY:November 10 Auction
DESCRIPTION:Auctions begin at 4:00pm and are open to the Public\nConcessions by the Petersville Ruritan Club \nAuctioneer- Andrew Jahn www.AndrewlahnAuctions.com\nPetersville Farmers Picnic Woods\n3816 Petersville Rd.\nKnoxville\, MD 21758
URL:https://petersvilleruritan.org/event/november-10-auction/
LOCATION:Petersville Ruritan\, 3816 Petersville Rd.\, Knoxville\, MD\, 21758\, United States
CATEGORIES:Auctions
ATTACH;FMTTYPE=image/png:https://petersvilleruritan.org/wp-content/uploads/2023/05/pr-auction-hero.png
END:VEVENT
BEGIN:VEVENT
DTSTART;VALUE=DATE:20231106
DTEND;VALUE=DATE:20231107
DTSTAMP:20260425T100351
CREATED:20230506T042324Z
LAST-MODIFIED:20230506T042324Z
UID:2960-1699228800-1699315199@petersvilleruritan.org
SUMMARY:November Director's Meeting
DESCRIPTION:
URL:https://petersvilleruritan.org/event/november-directors-meeting/
LOCATION:Petersville Ruritan\, 3816 Petersville Rd.\, Knoxville\, MD\, 21758\, United States
CATEGORIES:Club Event
ATTACH;FMTTYPE=image/png:https://petersvilleruritan.org/wp-content/uploads/2023/05/pr-leadership.png
END:VEVENT
BEGIN:VEVENT
DTSTART;VALUE=DATE:20231022
DTEND;VALUE=DATE:20231023
DTSTAMP:20260425T100351
CREATED:20230506T042246Z
LAST-MODIFIED:20230506T042246Z
UID:2958-1697932800-1698019199@petersvilleruritan.org
SUMMARY:National Jousting Tournament Rain Date
DESCRIPTION:
URL:https://petersvilleruritan.org/event/national-jousting-tournament-rain-date/
LOCATION:MD
CATEGORIES:Special Event
END:VEVENT
BEGIN:VEVENT
DTSTART;TZID=America/New_York:20231020T160000
DTEND;TZID=America/New_York:20231020T180000
DTSTAMP:20260425T100351
CREATED:20230506T034948Z
LAST-MODIFIED:20230506T034948Z
UID:2921-1697817600-1697824800@petersvilleruritan.org
SUMMARY:October 20 Auction
DESCRIPTION:Auctions begin at 4:00pm and are open to the Public\nConcessions by the Petersville Ruritan Club \nAuctioneer- Andrew Jahn www.AndrewlahnAuctions.com\nPetersville Farmers Picnic Woods\n3816 Petersville Rd.\nKnoxville\, MD 21758
URL:https://petersvilleruritan.org/event/october-20-auction/
LOCATION:Petersville Ruritan\, 3816 Petersville Rd.\, Knoxville\, MD\, 21758\, United States
CATEGORIES:Auctions
ATTACH;FMTTYPE=image/png:https://petersvilleruritan.org/wp-content/uploads/2023/05/pr-auction-hero.png
END:VEVENT
BEGIN:VEVENT
DTSTART;TZID=America/New_York:20231014T080000
DTEND;TZID=America/New_York:20231014T170000
DTSTAMP:20260425T100351
CREATED:20230506T042216Z
LAST-MODIFIED:20230506T042216Z
UID:2956-1697270400-1697302800@petersvilleruritan.org
SUMMARY:National Jousting Tournament
DESCRIPTION:
URL:https://petersvilleruritan.org/event/national-jousting-tournament/
LOCATION:MD
CATEGORIES:Special Event
END:VEVENT
BEGIN:VEVENT
DTSTART;TZID=America/New_York:20231009T080000
DTEND;TZID=America/New_York:20231009T170000
DTSTAMP:20260425T100351
CREATED:20230506T042141Z
LAST-MODIFIED:20230506T042141Z
UID:2954-1696838400-1696870800@petersvilleruritan.org
SUMMARY:October Monthly Meeting
DESCRIPTION:
URL:https://petersvilleruritan.org/event/october-monthly-meeting/
LOCATION:Petersville Ruritan\, 3816 Petersville Rd.\, Knoxville\, MD\, 21758\, United States
CATEGORIES:Club Event
ATTACH;FMTTYPE=image/jpeg:https://petersvilleruritan.org/wp-content/uploads/2022/11/20220711_175247-scaled.jpg
END:VEVENT
BEGIN:VEVENT
DTSTART;VALUE=DATE:20231007
DTEND;VALUE=DATE:20231008
DTSTAMP:20260425T100351
CREATED:20230506T042032Z
LAST-MODIFIED:20230506T042032Z
UID:2952-1696636800-1696723199@petersvilleruritan.org
SUMMARY:State Jousting Tournament
DESCRIPTION:
URL:https://petersvilleruritan.org/event/state-jousting-tournament/
LOCATION:MD
CATEGORIES:Special Event
ATTACH;FMTTYPE=image/png:https://petersvilleruritan.org/wp-content/uploads/2023/05/pr-leadership.png
END:VEVENT
BEGIN:VEVENT
DTSTART;VALUE=DATE:20231002
DTEND;VALUE=DATE:20231003
DTSTAMP:20260425T100351
CREATED:20230506T041841Z
LAST-MODIFIED:20230506T041841Z
UID:2950-1696204800-1696291199@petersvilleruritan.org
SUMMARY:October Director's Meeting
DESCRIPTION:
URL:https://petersvilleruritan.org/event/october-directors-meeting/
LOCATION:Petersville Ruritan\, 3816 Petersville Rd.\, Knoxville\, MD\, 21758\, United States
CATEGORIES:Club Event
ATTACH;FMTTYPE=image/png:https://petersvilleruritan.org/wp-content/uploads/2023/05/pr-leadership.png
END:VEVENT
BEGIN:VEVENT
DTSTART;TZID=America/New_York:20230917T140000
DTEND;TZID=America/New_York:20230917T160000
DTSTAMP:20260425T100351
CREATED:20230719T025133Z
LAST-MODIFIED:20230719T025133Z
UID:3042-1694959200-1694966400@petersvilleruritan.org
SUMMARY:Petersville Ruritan Seafood Boil
DESCRIPTION:Crab legs\, shrimp\, corn\, sausage\, mushrooms and potatoes\nCan beer and soda sold separately\nAdvance ticket sales\nJuly 17- Aug 31\n$50 per person\nTo purchase tickets\, please contact:\nBob Backover-301-676-3329\nOr\nDonnie Blumenauer-240-439-0235
URL:https://petersvilleruritan.org/event/petersville-ruritan-seafood-boil/
LOCATION:Petersville Ruritan\, 3816 Petersville Rd.\, Knoxville\, MD\, 21758\, United States
CATEGORIES:Special Event
ATTACH;FMTTYPE=image/png:https://petersvilleruritan.org/wp-content/uploads/2023/07/seafood-boil.png
END:VEVENT
BEGIN:VEVENT
DTSTART;TZID=America/New_York:20230915T160000
DTEND;TZID=America/New_York:20230915T180000
DTSTAMP:20260425T100351
CREATED:20230506T034854Z
LAST-MODIFIED:20230506T034854Z
UID:2919-1694793600-1694800800@petersvilleruritan.org
SUMMARY:September 15 Auction
DESCRIPTION:Auctions begin at 4:00pm and are open to the Public\nConcessions by the Petersville Ruritan Club \nAuctioneer- Andrew Jahn www.AndrewlahnAuctions.com\nPetersville Farmers Picnic Woods\n3816 Petersville Rd.\nKnoxville\, MD 21758
URL:https://petersvilleruritan.org/event/september-15-auction/
LOCATION:Petersville Ruritan\, 3816 Petersville Rd.\, Knoxville\, MD\, 21758\, United States
CATEGORIES:Auctions
ATTACH;FMTTYPE=image/png:https://petersvilleruritan.org/wp-content/uploads/2023/05/pr-auction-hero.png
END:VEVENT
BEGIN:VEVENT
DTSTART;VALUE=DATE:20230911
DTEND;VALUE=DATE:20230912
DTSTAMP:20260425T100351
CREATED:20230506T041756Z
LAST-MODIFIED:20230506T041756Z
UID:2948-1694390400-1694476799@petersvilleruritan.org
SUMMARY:September Monthly Meeting
DESCRIPTION:
URL:https://petersvilleruritan.org/event/september-monthly-meeting/
LOCATION:MD
CATEGORIES:Club Event
ATTACH;FMTTYPE=image/jpeg:https://petersvilleruritan.org/wp-content/uploads/2022/11/20220711_175247-scaled.jpg
END:VEVENT
BEGIN:VEVENT
DTSTART;VALUE=DATE:20230904
DTEND;VALUE=DATE:20230905
DTSTAMP:20260425T100351
CREATED:20230506T041718Z
LAST-MODIFIED:20230506T041718Z
UID:2946-1693785600-1693871999@petersvilleruritan.org
SUMMARY:September Director's Meeting
DESCRIPTION:
URL:https://petersvilleruritan.org/event/september-directors-meeting/
LOCATION:Petersville Ruritan\, 3816 Petersville Rd.\, Knoxville\, MD\, 21758\, United States
CATEGORIES:Club Event
ATTACH;FMTTYPE=image/png:https://petersvilleruritan.org/wp-content/uploads/2023/05/pr-leadership.png
END:VEVENT
BEGIN:VEVENT
DTSTART;VALUE=DATE:20230807
DTEND;VALUE=DATE:20230808
DTSTAMP:20260425T100351
CREATED:20230506T041457Z
LAST-MODIFIED:20230506T041457Z
UID:2941-1691366400-1691452799@petersvilleruritan.org
SUMMARY:August Director's Meeting
DESCRIPTION:
URL:https://petersvilleruritan.org/event/august-directors-meeting/
LOCATION:Petersville Ruritan\, 3816 Petersville Rd.\, Knoxville\, MD\, 21758\, United States
CATEGORIES:Club Event
ATTACH;FMTTYPE=image/png:https://petersvilleruritan.org/wp-content/uploads/2023/05/pr-leadership.png
END:VEVENT
BEGIN:VEVENT
DTSTART;VALUE=DATE:20230805
DTEND;VALUE=DATE:20230806
DTSTAMP:20260425T100351
CREATED:20230506T041114Z
LAST-MODIFIED:20230506T041114Z
UID:2939-1691193600-1691279999@petersvilleruritan.org
SUMMARY:Annual Picnic
DESCRIPTION:
URL:https://petersvilleruritan.org/event/annual-picnic/
LOCATION:Petersville Ruritan\, 3816 Petersville Rd.\, Knoxville\, MD\, 21758\, United States
CATEGORIES:Club Event
ATTACH;FMTTYPE=image/png:https://petersvilleruritan.org/wp-content/uploads/2022/11/front-sign.png
END:VEVENT
BEGIN:VEVENT
DTSTART;TZID=America/New_York:20230721T160000
DTEND;TZID=America/New_York:20230721T180000
DTSTAMP:20260425T100351
CREATED:20230506T034756Z
LAST-MODIFIED:20230506T034756Z
UID:2917-1689955200-1689962400@petersvilleruritan.org
SUMMARY:July 21 Auction
DESCRIPTION:Auctions begin at 4:00pm and are open to the Public\nConcessions by the Petersville Ruritan Club \nAuctioneer- Andrew Jahn www.AndrewlahnAuctions.com\nPetersville Farmers Picnic Woods\n3816 Petersville Rd.\nKnoxville\, MD 21758
URL:https://petersvilleruritan.org/event/july-21-auction/
LOCATION:Petersville Ruritan\, 3816 Petersville Rd.\, Knoxville\, MD\, 21758\, United States
CATEGORIES:Auctions
ATTACH;FMTTYPE=image/png:https://petersvilleruritan.org/wp-content/uploads/2023/05/pr-auction-hero.png
END:VEVENT
BEGIN:VEVENT
DTSTART;VALUE=DATE:20230710
DTEND;VALUE=DATE:20230711
DTSTAMP:20260425T100351
CREATED:20230506T041017Z
LAST-MODIFIED:20230506T041017Z
UID:2937-1688947200-1689033599@petersvilleruritan.org
SUMMARY:July Monthly Meeting
DESCRIPTION:
URL:https://petersvilleruritan.org/event/july-monthly-meeting/
LOCATION:Petersville Ruritan\, 3816 Petersville Rd.\, Knoxville\, MD\, 21758\, United States
CATEGORIES:Club Event
ATTACH;FMTTYPE=image/jpeg:https://petersvilleruritan.org/wp-content/uploads/2022/11/20220711_175247-scaled.jpg
END:VEVENT
BEGIN:VEVENT
DTSTART;VALUE=DATE:20230703
DTEND;VALUE=DATE:20230704
DTSTAMP:20260425T100351
CREATED:20230506T040929Z
LAST-MODIFIED:20230506T040929Z
UID:2935-1688342400-1688428799@petersvilleruritan.org
SUMMARY:July Director's Meeting
DESCRIPTION:
URL:https://petersvilleruritan.org/event/july-directors-meeting/
LOCATION:Petersville Ruritan\, 3816 Petersville Rd.\, Knoxville\, MD\, 21758\, United States
CATEGORIES:Club Event
ATTACH;FMTTYPE=image/png:https://petersvilleruritan.org/wp-content/uploads/2023/05/pr-leadership.png
END:VEVENT
BEGIN:VEVENT
DTSTART;TZID=America/New_York:20230616T160000
DTEND;TZID=America/New_York:20230616T180000
DTSTAMP:20260425T100351
CREATED:20230506T034712Z
LAST-MODIFIED:20230506T034712Z
UID:2915-1686931200-1686938400@petersvilleruritan.org
SUMMARY:June 16 Auction
DESCRIPTION:Auctions begin at 4:00pm and are open to the Public\nConcessions by the Petersville Ruritan Club \nAuctioneer- Andrew Jahn www.AndrewlahnAuctions.com\nPetersville Farmers Picnic Woods\n3816 Petersville Rd.\nKnoxville\, MD 21758
URL:https://petersvilleruritan.org/event/june-16-auction/
LOCATION:Petersville Ruritan\, 3816 Petersville Rd.\, Knoxville\, MD\, 21758\, United States
CATEGORIES:Auctions
ATTACH;FMTTYPE=image/png:https://petersvilleruritan.org/wp-content/uploads/2023/05/pr-auction-hero.png
END:VEVENT
BEGIN:VEVENT
DTSTART;VALUE=DATE:20230612
DTEND;VALUE=DATE:20230613
DTSTAMP:20260425T100351
CREATED:20230506T040843Z
LAST-MODIFIED:20230506T040843Z
UID:2933-1686528000-1686614399@petersvilleruritan.org
SUMMARY:June Monthly Meeting
DESCRIPTION:
URL:https://petersvilleruritan.org/event/june-monthly-meeting/
LOCATION:Petersville Ruritan\, 3816 Petersville Rd.\, Knoxville\, MD\, 21758\, United States
CATEGORIES:Club Event
ATTACH;FMTTYPE=image/jpeg:https://petersvilleruritan.org/wp-content/uploads/2022/11/20220711_175247-scaled.jpg
END:VEVENT
BEGIN:VEVENT
DTSTART;VALUE=DATE:20230605
DTEND;VALUE=DATE:20230606
DTSTAMP:20260425T100351
CREATED:20230506T040734Z
LAST-MODIFIED:20230508T141138Z
UID:2931-1685923200-1686009599@petersvilleruritan.org
SUMMARY:June Director's Meeting
DESCRIPTION:
URL:https://petersvilleruritan.org/event/june-directors-meeting/
LOCATION:MD
CATEGORIES:Club Event
ATTACH;FMTTYPE=image/png:https://petersvilleruritan.org/wp-content/uploads/2023/05/pr-leadership.png
END:VEVENT
BEGIN:VEVENT
DTSTART;TZID=America/New_York:20230519T160000
DTEND;TZID=America/New_York:20230519T180000
DTSTAMP:20260425T100351
CREATED:20230506T034454Z
LAST-MODIFIED:20230506T034539Z
UID:2910-1684512000-1684519200@petersvilleruritan.org
SUMMARY:May 19 Auction
DESCRIPTION:Auctions begin at 4:00pm and are open to the Public\nConcessions by the Petersville Ruritan Club \nAuctioneer- Andrew Jahn www.AndrewlahnAuctions.com\nPetersville Farmers Picnic Woods\n3816 Petersville Rd.\nKnoxville\, MD 21758
URL:https://petersvilleruritan.org/event/may-19-auction/
LOCATION:Petersville Ruritan\, 3816 Petersville Rd.\, Knoxville\, MD\, 21758\, United States
CATEGORIES:Auctions
ATTACH;FMTTYPE=image/png:https://petersvilleruritan.org/wp-content/uploads/2023/05/pr-auction-hero.png
END:VEVENT
BEGIN:VEVENT
DTSTART;VALUE=DATE:20230505
DTEND;VALUE=DATE:20230506
DTSTAMP:20260425T100351
CREATED:20230506T040219Z
LAST-MODIFIED:20230506T040219Z
UID:2925-1683244800-1683331199@petersvilleruritan.org
SUMMARY:May Ladies Night
DESCRIPTION:
URL:https://petersvilleruritan.org/event/may-ladies-night/
LOCATION:Petersville Ruritan\, 3816 Petersville Rd.\, Knoxville\, MD\, 21758\, United States
CATEGORIES:Club Event
ATTACH;FMTTYPE=image/png:https://petersvilleruritan.org/wp-content/uploads/2023/05/pr-ladies-night.png
END:VEVENT
BEGIN:VEVENT
DTSTART;VALUE=DATE:20230501
DTEND;VALUE=DATE:20230502
DTSTAMP:20260425T100351
CREATED:20230506T040647Z
LAST-MODIFIED:20230506T040647Z
UID:2928-1682899200-1682985599@petersvilleruritan.org
SUMMARY:May Director's Meeting
DESCRIPTION:
URL:https://petersvilleruritan.org/event/may-directors-meeting/
LOCATION:Petersville Ruritan\, 3816 Petersville Rd.\, Knoxville\, MD\, 21758\, United States
CATEGORIES:Club Event
ATTACH;FMTTYPE=image/png:https://petersvilleruritan.org/wp-content/uploads/2023/05/pr-leadership.png
END:VEVENT
END:VCALENDAR